BEGIN:VCALENDAR
VERSION:2.0
PRODID:www.stappen-shoppen.nl
BEGIN:VEVENT
UID:stappen-shoppen.nl/entity/67af163c7e3832d6b802e7ea
DTSTAMP:20260425T222629Z
ORGANIZER;CN=:MAILTO:
DTSTART:20250226T190000Z
DTEND:20250226T220000Z
URL:https://m.eindhovensrondje.nl/ical/67af163c7e3832d6b802e7ea
SUMMARY:The music bingo Carnavalseditie
DESCRIPTION:Houd je oren open\, want op woensdag 26 februari is het weer zover: de grootste muziekbingo keert terug naar het altijd bruisende Stratumseind! 
END:VEVENT
END:VCALENDAR

