BEGIN:VCALENDAR
VERSION:2.0
PRODID:www.stappen-shoppen.nl
BEGIN:VEVENT
UID:stappen-shoppen.nl/entity/67b482fff81cae4aa0084341
DTSTAMP:20260425T224843Z
ORGANIZER;CN=:MAILTO:info@effenaar.nl
DTSTART:20250529T130000Z
DTEND:20250528T220000Z
URL:https://m.eindhovensrondje.nl/ical/67b482fff81cae4aa0084341
SUMMARY:Temple of Rock Festival
DESCRIPTION:Op donderdag 29 mei trilt Eindhoven van 15:00 tot 00:00 op zijn grondvesten met de hardste rockband tributes!
END:VEVENT
END:VCALENDAR

